View In:
ArcGIS JavaScript
🌍 EEA Discomap Portal
ArcGIS Earth
ArcMap
View Footprint In:
🌍 EEA Discomap Portal
Service Description: GioLand/VHR_2018_LAEA
Name: GioLand/VHR_2018_LAEA
Description:
Single Fused Map Cache: false
Extent:
XMin: 938758.000000712
YMin: 936658.0000001872
XMax: 7145637.999999652
YMax: 5420981.999999421
Spatial Reference: PROJCS["ETRS89_ETRS_LAEA",GEOGCS["GCS_ETRS_1989",DATUM["D_ETRS_1989",SPHEROID["GRS_1980",6378137.0,298.257222101]],PRIMEM["Greenwich",0.0],UNIT["Degree",0.0174532925199433]],PROJECTION["Lambert_Azimuthal_Equal_Area"],PARAMETER["false_easting",4321000.0],PARAMETER["false_northing",3210000.0],PARAMETER["central_meridian",10.0],PARAMETER["latitude_of_origin",52.0],UNIT["Meter",1.0]]
Initial Extent:
XMin: 938758.000000712
YMin: 936658.0000001872
XMax: 7145637.999999652
YMax: 5420981.999999421
Spatial Reference: PROJCS["ETRS89_ETRS_LAEA",GEOGCS["GCS_ETRS_1989",DATUM["D_ETRS_1989",SPHEROID["GRS_1980",6378137.0,298.257222101]],PRIMEM["Greenwich",0.0],UNIT["Degree",0.0174532925199433]],PROJECTION["Lambert_Azimuthal_Equal_Area"],PARAMETER["false_easting",4321000.0],PARAMETER["false_northing",3210000.0],PARAMETER["central_meridian",10.0],PARAMETER["latitude_of_origin",52.0],UNIT["Meter",1.0]]
Full Extent:
XMin: 938758.000000712
YMin: 936658.0000001872
XMax: 7145637.999999652
YMax: 5420981.999999421
Spatial Reference: PROJCS["ETRS89_ETRS_LAEA",GEOGCS["GCS_ETRS_1989",DATUM["D_ETRS_1989",SPHEROID["GRS_1980",6378137.0,298.257222101]],PRIMEM["Greenwich",0.0],UNIT["Degree",0.0174532925199433]],PROJECTION["Lambert_Azimuthal_Equal_Area"],PARAMETER["false_easting",4321000.0],PARAMETER["false_northing",3210000.0],PARAMETER["central_meridian",10.0],PARAMETER["latitude_of_origin",52.0],UNIT["Meter",1.0]]
Pixel Size X: 1.9999999999996585
Pixel Size Y: 1.999999999999658
Band Count: 4
Pixel Type: U16
RasterFunction Infos: {"rasterFunctionInfos": [
{
"name": "VHR2018",
"description": "VHR2018",
"help": ""
},
{
"name": "None",
"description": "Make a Raster or Raster Dataset into a Function Raster Dataset.",
"help": ""
}
]}
Mensuration Capabilities: None
Has Histograms: true
Has Colormap: false
Has Multi Dimensions : false
Rendering Rule:
Min Scale: 0
Max Scale: 0
Copyright Text:
Service Data Type: esriImageServiceDataTypeGeneric
Min Values: 1, 1, 1, 1
Max Values: 28207, 25242, 25512, 24300
Mean Values: 531.0617015958592, 796.9648710230241, 811.7936877353895, 2862.1654989761923
Standard Deviation Values: 594.2853154824087, 632.7264635050554, 792.1252124909588, 949.7520478281918
Object ID Field: OBJECTID
Fields:
-
OBJECTID
(
type: esriFieldTypeOID, alias: OBJECTID
)
-
Shape
(
type: esriFieldTypeGeometry, alias: Shape
)
-
Category
(
type: esriFieldTypeInteger, alias: Category
, Coded Values:
[0: Unknown]
, [1: Primary]
, [2: Overview]
, ...6 more...
)
Default Mosaic Method: ByAttribute
Allowed Mosaic Methods: ByAttribute
SortField: MinPS
SortValue: 0
Mosaic Operator: Max
Default Compression Quality: 75
Default Resampling Method: Bilinear
Max Record Count: 50000
Max Image Height: 50000
Max Image Width: 100000
Max Download Image Count: 0
Max Mosaic Image Count: 50000
Allow Raster Function: true
Allow Copy: false
Allow Analysis: true
Allow Compute TiePoints: false
Supports Statistics: true
Supports Advanced Queries: true
Use StandardizedQueries: true
Raster Type Infos:
Name: Raster Dataset
Description: Supports all ArcGIS Raster Datasets
Help:
Has Raster Attribute Table: false
Edit Fields Info: null
Ownership Based AccessControl For Rasters: null
Child Resources:
Info
Histograms
Statistics
Key Properties
Legend
Raster Function Infos
Supported Operations:
Export Image
Query
Identify
Compute Histograms
Compute Statistics Histograms
Get Samples
Compute Class Statistics
Query Boundary
Compute Pixel Location
Compute Angles
Validate
Project