{
 "currentVersion": 10.91,
 "serviceDescription": "GioLand/VHR_2018_LAEA",
 "name": "GioLand/VHR_2018_LAEA",
 "description": "",
 "extent": {
  "xmin": 938758.000000712,
  "ymin": 936658.0000001872,
  "xmax": 7145637.999999652,
  "ymax": 5420981.999999421,
  "spatialReference": {
   "wkt": "PROJCS[\"ETRS89_ETRS_LAEA\",GEOGCS[\"GCS_ETRS_1989\",DATUM[\"D_ETRS_1989\",SPHEROID[\"GRS_1980\",6378137.0,298.257222101]],PRIMEM[\"Greenwich\",0.0],UNIT[\"Degree\",0.0174532925199433]],PROJECTION[\"Lambert_Azimuthal_Equal_Area\"],PARAMETER[\"false_easting\",4321000.0],PARAMETER[\"false_northing\",3210000.0],PARAMETER[\"central_meridian\",10.0],PARAMETER[\"latitude_of_origin\",52.0],UNIT[\"Meter\",1.0]]"
  }
 },
 "initialExtent": {
  "xmin": 938758.000000712,
  "ymin": 936658.0000001872,
  "xmax": 7145637.999999652,
  "ymax": 5420981.999999421,
  "spatialReference": {
   "wkt": "PROJCS[\"ETRS89_ETRS_LAEA\",GEOGCS[\"GCS_ETRS_1989\",DATUM[\"D_ETRS_1989\",SPHEROID[\"GRS_1980\",6378137.0,298.257222101]],PRIMEM[\"Greenwich\",0.0],UNIT[\"Degree\",0.0174532925199433]],PROJECTION[\"Lambert_Azimuthal_Equal_Area\"],PARAMETER[\"false_easting\",4321000.0],PARAMETER[\"false_northing\",3210000.0],PARAMETER[\"central_meridian\",10.0],PARAMETER[\"latitude_of_origin\",52.0],UNIT[\"Meter\",1.0]]"
  }
 },
 "fullExtent": {
  "xmin": 938758.000000712,
  "ymin": 936658.0000001872,
  "xmax": 7145637.999999652,
  "ymax": 5420981.999999421,
  "spatialReference": {
   "wkt": "PROJCS[\"ETRS89_ETRS_LAEA\",GEOGCS[\"GCS_ETRS_1989\",DATUM[\"D_ETRS_1989\",SPHEROID[\"GRS_1980\",6378137.0,298.257222101]],PRIMEM[\"Greenwich\",0.0],UNIT[\"Degree\",0.0174532925199433]],PROJECTION[\"Lambert_Azimuthal_Equal_Area\"],PARAMETER[\"false_easting\",4321000.0],PARAMETER[\"false_northing\",3210000.0],PARAMETER[\"central_meridian\",10.0],PARAMETER[\"latitude_of_origin\",52.0],UNIT[\"Meter\",1.0]]"
  }
 },
 "hasMultidimensions": false,
 "pixelSizeX": 1.9999999999996585,
 "pixelSizeY": 1.999999999999658,
 "datasetFormat": "AMD",
 "uncompressedSize": 55667321898240,
 "blockWidth": 2048,
 "blockHeight": 256,
 "compressionType": "None",
 "bandNames": [
  "blue",
  "green",
  "red",
  "NIR"
 ],
 "allowCopy": false,
 "allowAnalysis": true,
 "bandCount": 4,
 "pixelType": "U16",
 "minPixelSize": 0,
 "maxPixelSize": 0,
 "copyrightText": "",
 "serviceDataType": "esriImageServiceDataTypeGeneric",
 "serviceSourceType": "esriImageServiceSourceTypeMosaicDataset",
 "minValues": [
  1,
  1,
  1,
  1
 ],
 "maxValues": [
  28207,
  25242,
  25512,
  24300
 ],
 "meanValues": [
  531.0617015958592,
  796.9648710230241,
  811.7936877353895,
  2862.1654989761923
 ],
 "stdvValues": [
  594.2853154824087,
  632.7264635050554,
  792.1252124909588,
  949.7520478281918
 ],
 "objectIdField": "OBJECTID",
 "fields": [
  {
   "name": "OBJECTID",
   "type": "esriFieldTypeOID",
   "alias": "OBJECTID",
   "domain": null
  },
  {
   "name": "Shape",
   "type": "esriFieldTypeGeometry",
   "alias": "Shape",
   "domain": null
  },
  {
   "name": "Category",
   "type": "esriFieldTypeInteger",
   "alias": "Category",
   "domain": {
    "type": "codedValue",
    "name": "MosaicCatalogItemCategoryDomain",
    "description": "Catalog item categories.",
    "codedValues": [
     {
      "name": "Unknown",
      "code": 0
     },
     {
      "name": "Primary",
      "code": 1
     },
     {
      "name": "Overview",
      "code": 2
     },
     {
      "name": "Unprocessed Overview",
      "code": 3
     },
     {
      "name": "Partial Overview",
      "code": 4
     },
     {
      "name": "Inactive",
      "code": 5
     },
     {
      "name": "Uploaded",
      "code": 253
     },
     {
      "name": "Incomplete",
      "code": 254
     },
     {
      "name": "Custom",
      "code": 255
     }
    ],
    "mergePolicy": "esriMPTDefaultValue",
    "splitPolicy": "esriSPTDefaultValue"
   }
  }
 ],
 "capabilities": "Catalog,Image,Metadata",
 "defaultMosaicMethod": "ByAttribute",
 "allowedMosaicMethods": "ByAttribute",
 "sortField": "MinPS",
 "sortValue": "0",
 "sortAscending": true,
 "mosaicOperator": "Max",
 "maxDownloadSizeLimit": 0,
 "defaultCompressionQuality": 75,
 "defaultResamplingMethod": "Bilinear",
 "maxImageHeight": 50000,
 "maxImageWidth": 100000,
 "maxRecordCount": 50000,
 "maxDownloadImageCount": 0,
 "maxMosaicImageCount": 50000,
 "allowRasterFunction": true,
 "rasterFunctionInfos": [
  {
   "name": "VHR2018",
   "description": "VHR2018",
   "help": ""
  },
  {
   "name": "None",
   "description": "Make a Raster or Raster Dataset into a Function Raster Dataset.",
   "help": ""
  }
 ],
 "rasterTypeInfos": [
  {
   "name": "Raster Dataset",
   "description": "Supports all ArcGIS Raster Datasets",
   "help": ""
  }
 ],
 "mensurationCapabilities": "None",
 "hasHistograms": true,
 "hasColormap": false,
 "hasRasterAttributeTable": false,
 "minScale": 0,
 "maxScale": 0,
 "exportTilesAllowed": false,
 "supportsStatistics": true,
 "supportsAdvancedQueries": true,
 "editFieldsInfo": null,
 "ownershipBasedAccessControlForRasters": null,
 "allowComputeTiePoints": false,
 "useStandardizedQueries": true,
 "advancedQueryCapabilities": {
  "useStandardizedQueries": true,
  "supportsStatistics": true,
  "supportsOrderBy": true,
  "supportsDistinct": true,
  "supportsPagination": true
 },
 "spatialReference": {
  "wkt": "PROJCS[\"ETRS89_ETRS_LAEA\",GEOGCS[\"GCS_ETRS_1989\",DATUM[\"D_ETRS_1989\",SPHEROID[\"GRS_1980\",6378137.0,298.257222101]],PRIMEM[\"Greenwich\",0.0],UNIT[\"Degree\",0.0174532925199433]],PROJECTION[\"Lambert_Azimuthal_Equal_Area\"],PARAMETER[\"false_easting\",4321000.0],PARAMETER[\"false_northing\",3210000.0],PARAMETER[\"central_meridian\",10.0],PARAMETER[\"latitude_of_origin\",52.0],UNIT[\"Meter\",1.0]]"
 }
}
