View In:
ArcGIS JavaScript
EEA Discomap Portal
ArcGIS Earth
Service Description: GioLand/VHR_2018_WM
Name: GioLand/VHR_2018_WM
Description:
Single Fused Map Cache: false
Extent:
XMin: -6127453.999998954
YMin: 2843939.999999514
XMax: 7659649.9999986915
YMax: 1.1733309999997994E7
Spatial Reference: 102100
(3857)
LatestVCSWkid(0)
Initial Extent:
XMin: -6127453.999998954
YMin: 2843939.999999514
XMax: 7659649.9999986915
YMax: 1.1733309999997994E7
Spatial Reference: 102100
(3857)
LatestVCSWkid(0)
Full Extent:
XMin: -6127453.999998954
YMin: 2843939.999999514
XMax: 7659649.9999986915
YMax: 1.1733309999997994E7
Spatial Reference: 102100
(3857)
LatestVCSWkid(0)
Pixel Size X: 1.9999999999996585
Pixel Size Y: 1.999999999999658
Band Count: 4
Pixel Type: U16
RasterFunction Infos: {"rasterFunctionInfos": [
{
"name": "VHR2018",
"description": "VHR2018",
"help": ""
},
{
"name": "None",
"description": "Make a Raster or Raster Dataset into a Function Raster Dataset.",
"help": ""
}
]}
Mensuration Capabilities: None
Inspection Capabilities:
Has Histograms: true
Has Colormap: false
Has Multi Dimensions : false
Rendering Rule:
Min Scale: 0
Max Scale: 0
Resampling: false
Copyright Text:
Service Data Type: esriImageServiceDataTypeGeneric
Min Values: 1, 1, 1, 1
Max Values: 28207, 25242, 25512, 24300
Mean Values: 531.0617015958592, 796.9648710230241, 811.7936877353895, 2862.1654989761923
Standard Deviation Values: 594.2853154824087, 632.7264635050554, 792.1252124909588, 949.7520478281918
Object ID Field: OBJECTID
Fields:
-
OBJECTID
(
type: esriFieldTypeOID, alias: OBJECTID
)
-
Shape
(
type: esriFieldTypeGeometry, alias: Shape
)
-
Category
(
type: esriFieldTypeInteger, alias: Category
, Coded Values:
[0: Unknown]
, [1: Primary]
, [2: Overview]
, ...6 more...
)
Default Mosaic Method: ByAttribute
Allowed Mosaic Methods: ByAttribute
SortField: MinPS
SortValue: 0
Mosaic Operator: Max
Default Compression Quality: 75
Default Resampling Method: Nearest
Max Record Count: 50000
Max Image Height: 50000
Max Image Width: 100000
Max Download Image Count: 0
Max Mosaic Image Count: 50000
Allow Raster Function: true
Allow Copy: false
Allow Analysis: true
Allow Compute TiePoints: false
Supports Statistics: true
Supports Advanced Queries: true
Use StandardizedQueries: true
Raster Type Infos:
Name: Raster Dataset
Description: Supports all ArcGIS Raster Datasets
Help:
Has Raster Attribute Table: false
Edit Fields Info: null
Ownership Based AccessControl For Rasters: null
Child Resources:
Info
Histograms
Statistics
Key Properties
Legend
Raster Function Infos
Supported Operations:
Export Image
Query
Identify
Compute Histograms
Compute Statistics Histograms
Get Samples
Compute Class Statistics
Query GPS Info
Find Images
Image to Map
Map to Image
Measure from Image
Image to Map Multiray
Query Boundary
Compute Pixel Location
Compute Angles
Validate
Project