Noise contours from <\/SPAN>Rail <\/SPAN>Lnight. Update April 2026<\/SPAN><\/P><\/DIV><\/DIV><\/DIV>",
"extent": {
"xmin": 2648436.0197,
"ymin": 1638762.6955999993,
"xmax": 5645936.0197,
"ymax": 4791172.695599999,
"spatialReference": {
"wkid": 3035,
"latestWkid": 3035
}
},
"initialExtent": {
"xmin": 2648436.0197,
"ymin": 1638762.6955999993,
"xmax": 5645936.0197,
"ymax": 4791172.695599999,
"spatialReference": {
"wkid": 3035,
"latestWkid": 3035
}
},
"fullExtent": {
"xmin": 2648436.0197,
"ymin": 1638762.6955999993,
"xmax": 5645936.0197,
"ymax": 4791172.695599999,
"spatialReference": {
"wkid": 3035,
"latestWkid": 3035
}
},
"sortableFields": "",
"bandCount": 1,
"pixelType": "U4",
"minValues": [
1
],
"maxValues": [
5
],
"meanValues": [
2.00552740672501
],
"stdvValues": [
1.1359102140313253
],
"serviceProperties": "NorthWest<\/MosaicMethod>First<\/MosaicOperator>true<\/SortAscending><\/LockImageID>Name<\/TileOrderField>0<\/TileOrderBase>600.000000<\/AvgImageSpacingX>300.000000<\/AvgImageSpacingY>0.0<\/ViewPointX>0.0<\/ViewPointY>0.0<\/ViewPointDefShiftX>0.0<\/ViewPointDefShiftY>None<\/CompressionMethod>75<\/CompressionQuality>0.010000<\/CompressionTolerance>Bilinear<\/SamplingMethod><\/ImageServiceProperties><\/ImageServer>",
"allowedFields": "Name,MinPS,MaxPS,LowPS,HighPS,Tag,GroupName,ProductName,CenterX,CenterY,ZOrder,Shape_Length,Shape_Area",
"hasMultidimensions": false,
"pixelSizeX": 10,
"pixelSizeY": 10,
"meanPixelSize": 10,
"datasetFormat": "AMD",
"uncompressedSize": 47246744875,
"blockWidth": 2048,
"blockHeight": 256,
"compressionType": "None",
"bandNames": [
"Band_1"
],
"allowCopy": true,
"allowAnalysis": true,
"itemAccess": false,
"inspectionCapabilities": "",
"minPixelSize": 0,
"maxPixelSize": 0,
"copyrightText": "European Environment Agency",
"serviceDataType": "esriImageServiceDataTypeGeneric",
"serviceSourceType": "esriImageServiceSourceTypeMosaicDataset",
"objectIdField": "OBJECTID",
"fields": [
{
"name": "OBJECTID",
"type": "esriFieldTypeOID",
"alias": "OBJECTID",
"domain": null
},
{
"name": "Shape",
"type": "esriFieldTypeGeometry",
"alias": "Shape",
"domain": null
},
{
"name": "Name",
"type": "esriFieldTypeString",
"alias": "Name",
"domain": null,
"length": 200
},
{
"name": "MinPS",
"type": "esriFieldTypeDouble",
"alias": "MinPS",
"domain": null
},
{
"name": "MaxPS",
"type": "esriFieldTypeDouble",
"alias": "MaxPS",
"domain": null
},
{
"name": "LowPS",
"type": "esriFieldTypeDouble",
"alias": "LowPS",
"domain": null
},
{
"name": "HighPS",
"type": "esriFieldTypeDouble",
"alias": "HighPS",
"domain": null
},
{
"name": "Category",
"type": "esriFieldTypeInteger",
"alias": "Category",
"domain": {
"type": "codedValue",
"name": "MosaicCatalogItemCategoryDomain",
"description": "Catalog item categories.",
"codedValues": [
{
"name": "Unknown",
"code": 0
},
{
"name": "Primary",
"code": 1
},
{
"name": "Overview",
"code": 2
},
{
"name": "Unprocessed Overview",
"code": 3
},
{
"name": "Partial Overview",
"code": 4
},
{
"name": "Inactive",
"code": 5
},
{
"name": "Uploaded",
"code": 253
},
{
"name": "Incomplete",
"code": 254
},
{
"name": "Custom",
"code": 255
}
],
"mergePolicy": "esriMPTDefaultValue",
"splitPolicy": "esriSPTDefaultValue"
}
},
{
"name": "Tag",
"type": "esriFieldTypeString",
"alias": "Tag",
"domain": null,
"length": 100
},
{
"name": "GroupName",
"type": "esriFieldTypeString",
"alias": "GroupName",
"domain": null,
"length": 100
},
{
"name": "ProductName",
"type": "esriFieldTypeString",
"alias": "ProductName",
"domain": null,
"length": 100
},
{
"name": "CenterX",
"type": "esriFieldTypeDouble",
"alias": "CenterX",
"domain": null
},
{
"name": "CenterY",
"type": "esriFieldTypeDouble",
"alias": "CenterY",
"domain": null
},
{
"name": "ZOrder",
"type": "esriFieldTypeInteger",
"alias": "ZOrder",
"domain": null
},
{
"name": "Shape_Length",
"type": "esriFieldTypeDouble",
"alias": "Shape_Length",
"domain": null
},
{
"name": "Shape_Area",
"type": "esriFieldTypeDouble",
"alias": "Shape_Area",
"domain": null
}
],
"capabilities": "Catalog,Mensuration,Image,Metadata",
"defaultMosaicMethod": "Northwest",
"allowedMosaicMethods": "NorthWest,Center,LockRaster,ByAttribute,Nadir,Viewpoint,Seamline,None",
"sortField": "",
"sortValue": null,
"sortAscending": true,
"mosaicOperator": "First",
"maxDownloadSizeLimit": 2048,
"defaultCompressionQuality": 75,
"defaultResamplingMethod": "Bilinear",
"maxImageHeight": 4100,
"maxImageWidth": 15000,
"maxRecordCount": 1000,
"maxDownloadImageCount": 20,
"maxMosaicImageCount": 20,
"allowRasterFunction": true,
"rasterFunctionInfos": [
{
"name": "ClassifiedLden",
"description": "A raster function template.",
"help": ""
},
{
"name": "None",
"description": "",
"help": ""
}
],
"rasterTypeInfos": [
{
"name": "Raster Dataset",
"description": "Supports all ArcGIS Raster Datasets",
"help": ""
}
],
"mensurationCapabilities": "",
"hasHistograms": true,
"hasColormap": false,
"hasRasterAttributeTable": false,
"minScale": 0,
"maxScale": 0,
"exportTilesAllowed": false,
"supportsStatistics": true,
"supportsAdvancedQueries": true,
"editFieldsInfo": null,
"ownershipBasedAccessControlForRasters": null,
"allowComputeTiePoints": false,
"useStandardizedQueries": true,
"advancedQueryCapabilities": {
"useStandardizedQueries": true,
"supportsStatistics": true,
"supportsOrderBy": true,
"supportsDistinct": true,
"supportsPagination": true
},
"spatialReference": {
"wkid": 3035,
"latestWkid": 3035
},
"resampling": false
}